Workbook

Sheet BON DE COMMANDE
I20: raphael.guex@gmail.com
B23: Bon de commande récapitulatif
E24: Quantité | F24: Flocage supp. | G24: Prix unit. | H24: Total
B25: Collection Entraînement
B26: T-Shirt manche courte | E26: =IF(SUM('TSHIRT ENTR. MANCHE COURTE'!G11,'TSHIRT ENTR. MANCHE COURTE'!G20,'TSHIRT ENTR. MANCHE COURTE'!G33,'TSHIRT ENTR. MANCHE COURTE'!G42,'TSHIRT ENTR. MANCHE COURTE'!G55,'TSHIRT ENTR. MANCHE COURTE'!G64)=0,"",SUM('TSHIRT ENTR. MANCHE COURTE'!G11,'TSHIRT ENTR. MANCHE COURTE'!G20,'TSHIRT ENTR. MANCHE COURTE'!G33,'TSHIRT ENTR. MANCHE COURTE'!G42,'TSHIRT ENTR. MANCHE COURTE'!G55,'TSHIRT ENTR. MANCHE COURTE'!G64)) | F26: =IF(COUNTIFS('TSHIRT ENTR. MANCHE COURTE'!J15,"<>",'TSHIRT ENTR. MANCHE COURTE'!J15,"<>Pas de flocage")*'TSHIRT ENTR. MANCHE COURTE'!G11+COUNTIFS('TSHIRT ENTR. MANCHE COURTE'!J24,"<>",'TSHIRT ENTR. MANCHE COURTE'!J24,"<>Pas de flocage")*'TSHIRT ENTR. MANCHE COURTE'!G20+COUNTIFS('TSHIRT ENTR. MANCHE COURTE'!J37,"<>",'TSHIRT ENTR. MANCHE COURTE'!J37,"<>Pas de flocage")*'TSHIRT ENTR. MANCHE COURTE'!G33+COUNTIFS('TSHIRT ENTR. MANCHE COURTE'!J46,"<>",'TSHIRT ENTR. MANCHE COURTE'!J46,"<>Pas de flocage")*'TSHIRT ENTR. MANCHE COURTE'!G42+COUNTIFS('TSHIRT ENTR. MANCHE COURTE'!J59,"<>",'TSHIRT ENTR. MANCHE COURTE'!J59,"<>Pas de flocage")*'TSHIRT ENTR. MANCHE COURTE'!G55+COUNTIFS('TSHIRT ENTR. MANCHE COURTE'!J68,"<>",'TSHIRT ENTR. MANCHE COURTE'!J68,"<>Pas de flocage")*'TSHIRT ENTR. MANCHE COURTE'!G64=0,"",COUNTIFS('TSHIRT ENTR. MANCHE COURTE'!J15,"<>",'TSHIRT ENTR. MANCHE COURTE'!J15,"<>Pas de flocage")*'TSHIRT ENTR. MANCHE COURTE'!G11+COUNTIFS('TSHIRT ENTR. MANCHE COURTE'!J24,"<>",'TSHIRT ENTR. MANCHE COURTE'!J24,"<>Pas de flocage")*'TSHIRT ENTR. MANCHE COURTE'!G20+COUNTIFS('TSHIRT ENTR. MANCHE COURTE'!J37,"<>",'TSHIRT ENTR. MANCHE COURTE'!J37,"<>Pas de flocage")*'TSHIRT ENTR. MANCHE COURTE'!G33+COUNTIFS('TSHIRT ENTR. MANCHE COURTE'!J46,"<>",'TSHIRT ENTR. MANCHE COURTE'!J46,"<>Pas de flocage")*'TSHIRT ENTR. MANCHE COURTE'!G42+COUNTIFS('TSHIRT ENTR. MANCHE COURTE'!J59,"<>",'TSHIRT ENTR. MANCHE COURTE'!J59,"<>Pas de flocage")*'TSHIRT ENTR. MANCHE COURTE'!G55+COUNTIFS('TSHIRT ENTR. MANCHE COURTE'!J68,"<>",'TSHIRT ENTR. MANCHE COURTE'!J68,"<>Pas de flocage")*'TSHIRT ENTR. MANCHE COURTE'!G64) | G26: =param!B14 -> 35 | H26: =IFERROR(IFERROR(E26*G26+F26*param!B31,E26*G26),"")
B27: T-Shirt manche longue | E27: =IF(SUM('TSHIRT ENTR. MANCHE LONGUE'!G11,'TSHIRT ENTR. MANCHE LONGUE'!G20,'TSHIRT ENTR. MANCHE LONGUE'!G33,'TSHIRT ENTR. MANCHE LONGUE'!G33,'TSHIRT ENTR. MANCHE LONGUE'!G42)=0,"",SUM('TSHIRT ENTR. MANCHE LONGUE'!G11,'TSHIRT ENTR. MANCHE LONGUE'!G20,'TSHIRT ENTR. MANCHE LONGUE'!G33,'TSHIRT ENTR. MANCHE LONGUE'!G33,'TSHIRT ENTR. MANCHE LONGUE'!G42)) | F27: =IF(COUNTIFS('TSHIRT ENTR. MANCHE LONGUE'!J15,"<>",'TSHIRT ENTR. MANCHE LONGUE'!J15,"<>Pas de flocage")*'TSHIRT ENTR. MANCHE LONGUE'!G11+COUNTIFS('TSHIRT ENTR. MANCHE LONGUE'!J24,"<>",'TSHIRT ENTR. MANCHE LONGUE'!J24,"<>Pas de flocage")*'TSHIRT ENTR. MANCHE LONGUE'!G20+COUNTIFS('TSHIRT ENTR. MANCHE LONGUE'!J37,"<>",'TSHIRT ENTR. MANCHE LONGUE'!J37,"<>Pas de flocage")*'TSHIRT ENTR. MANCHE LONGUE'!G33+COUNTIFS('TSHIRT ENTR. MANCHE LONGUE'!J46,"<>",'TSHIRT ENTR. MANCHE LONGUE'!J46,"<>Pas de flocage")*'TSHIRT ENTR. MANCHE LONGUE'!G42=0,"",COUNTIFS('TSHIRT ENTR. MANCHE LONGUE'!J15,"<>",'TSHIRT ENTR. MANCHE LONGUE'!J15,"<>Pas de flocage")*'TSHIRT ENTR. MANCHE LONGUE'!G11+COUNTIFS('TSHIRT ENTR. MANCHE LONGUE'!J24,"<>",'TSHIRT ENTR. MANCHE LONGUE'!J24,"<>Pas de flocage")*'TSHIRT ENTR. MANCHE LONGUE'!G20+COUNTIFS('TSHIRT ENTR. MANCHE LONGUE'!J37,"<>",'TSHIRT ENTR. MANCHE LONGUE'!J37,"<>Pas de flocage")*'TSHIRT ENTR. MANCHE LONGUE'!G33+COUNTIFS('TSHIRT ENTR. MANCHE LONGUE'!J46,"<>",'TSHIRT ENTR. MANCHE LONGUE'!J46,"<>Pas de flocage")*'TSHIRT ENTR. MANCHE LONGUE'!G42) | G27: =param!B15 -> 35 | H27: =IFERROR(IFERROR(E27*G27+F27*param!B31,E27*G27),"")
B28: Short | E28: =IF(SUM(SHORT!G10,SHORT!G12,SHORT!G16,SHORT!G18,SHORT!G22,SHORT!G24)=0,"",SUM(SHORT!G10,SHORT!G12,SHORT!G16,SHORT!G18,SHORT!G22,SHORT!G24)) | G28: =param!B16 -> 30 | H28: =IFERROR(E28*G28,"")
B30: Collection Loisir
B31: T-Shirt manche courte | E31: =IF(SUM('TSHIRT COTON'!G11,'TSHIRT COTON'!G20,'TSHIRT COTON'!G33,'TSHIRT COTON'!G42,'TSHIRT COTON'!G55,'TSHIRT COTON'!G64)=0,"",SUM('TSHIRT COTON'!G11,'TSHIRT COTON'!G20,'TSHIRT COTON'!G33,'TSHIRT COTON'!G42,'TSHIRT COTON'!G55,'TSHIRT COTON'!G64)) | F31: =IF(COUNTIFS('TSHIRT COTON'!J15,"<>",'TSHIRT COTON'!J15,"<>Pas de flocage")*'TSHIRT COTON'!G11+COUNTIFS('TSHIRT COTON'!J24,"<>",'TSHIRT COTON'!J24,"<>Pas de flocage")*'TSHIRT COTON'!G20+COUNTIFS('TSHIRT COTON'!J37,"<>",'TSHIRT COTON'!J37,"<>Pas de flocage")*'TSHIRT COTON'!G33+COUNTIFS('TSHIRT COTON'!J46,"<>",'TSHIRT COTON'!J46,"<>Pas de flocage")*'TSHIRT COTON'!G42+COUNTIFS('TSHIRT COTON'!J59,"<>",'TSHIRT COTON'!J59,"<>Pas de flocage")*'TSHIRT COTON'!G55+COUNTIFS('TSHIRT COTON'!J68,"<>",'TSHIRT COTON'!J68,"<>Pas de flocage")*'TSHIRT COTON'!G64=0,"",COUNTIFS('TSHIRT COTON'!J15,"<>",'TSHIRT COTON'!J15,"<>Pas de flocage")*'TSHIRT COTON'!G11+COUNTIFS('TSHIRT COTON'!J24,"<>",'TSHIRT COTON'!J24,"<>Pas de flocage")*'TSHIRT COTON'!G20+COUNTIFS('TSHIRT COTON'!J37,"<>",'TSHIRT COTON'!J37,"<>Pas de flocage")*'TSHIRT COTON'!G33+COUNTIFS('TSHIRT COTON'!J46,"<>",'TSHIRT COTON'!J46,"<>Pas de flocage")*'TSHIRT COTON'!G42+COUNTIFS('TSHIRT COTON'!J59,"<>",'TSHIRT COTON'!J59,"<>Pas de flocage")*'TSHIRT COTON'!G55+COUNTIFS('TSHIRT COTON'!J68,"<>",'TSHIRT COTON'!J68,"<>Pas de flocage")*'TSHIRT COTON'!G64) | G31: =param!B19 -> 30 | H31: =IFERROR(IFERROR(E31*G31+F31*param!B31,E31*G31),"")
B32: Hoodie | E32: =IF(SUM(HOODIE!G11,HOODIE!G20,HOODIE!G33,HOODIE!G42,HOODIE!G55,HOODIE!G64)=0,"",SUM(HOODIE!G11,HOODIE!G20,HOODIE!G33,HOODIE!G42,HOODIE!G55,HOODIE!G64)) | F32: =IF(COUNTIFS(HOODIE!J15,"<>",HOODIE!J15,"<>Pas de flocage")*HOODIE!G11+COUNTIFS(HOODIE!J24,"<>",HOODIE!J24,"<>Pas de flocage")*HOODIE!G20+COUNTIFS(HOODIE!J37,"<>",HOODIE!J37,"<>Pas de flocage")*HOODIE!G33+COUNTIFS(HOODIE!J46,"<>",HOODIE!J46,"<>Pas de flocage")*HOODIE!G42+COUNTIFS(HOODIE!J59,"<>",HOODIE!J59,"<>Pas de flocage")*HOODIE!G55+COUNTIFS(HOODIE!J68,"<>",HOODIE!J68,"<>Pas de flocage")*HOODIE!G64=0,"",COUNTIFS(HOODIE!J15,"<>",HOODIE!J15,"<>Pas de flocage")*HOODIE!G11+COUNTIFS(HOODIE!J24,"<>",HOODIE!J24,"<>Pas de flocage")*HOODIE!G20+COUNTIFS(HOODIE!J37,"<>",HOODIE!J37,"<>Pas de flocage")*HOODIE!G33+COUNTIFS(HOODIE!J46,"<>",HOODIE!J46,"<>Pas de flocage")*HOODIE!G42+COUNTIFS(HOODIE!J59,"<>",HOODIE!J59,"<>Pas de flocage")*HOODIE!G55+COUNTIFS(HOODIE!J68,"<>",HOODIE!J68,"<>Pas de flocage")*HOODIE!G64) | G32: =param!B20 -> 60 | H32: =IFERROR(IFERROR(E32*G32+F32*param!B31,E32*G32),"")
B34: Collection Training
B35: JKT Capuche | E35: =IF(SUM('JKT CAPUCHE'!G11,'JKT CAPUCHE'!G20,'JKT CAPUCHE'!G33,'JKT CAPUCHE'!G42,'JKT CAPUCHE'!G55,'JKT CAPUCHE'!G64)=0,"",SUM('JKT CAPUCHE'!G11,'JKT CAPUCHE'!G20,'JKT CAPUCHE'!G33,'JKT CAPUCHE'!G42,'JKT CAPUCHE'!G55,'JKT CAPUCHE'!G64)) | F35: =IF(COUNTIFS('JKT CAPUCHE'!J15,"<>",'JKT CAPUCHE'!J15,"<>Pas de flocage")*'JKT CAPUCHE'!G11+COUNTIFS('JKT CAPUCHE'!J24,"<>",'JKT CAPUCHE'!J24,"<>Pas de flocage")*'JKT CAPUCHE'!G20+COUNTIFS('JKT CAPUCHE'!J37,"<>",'JKT CAPUCHE'!J37,"<>Pas de flocage")*'JKT CAPUCHE'!G33+COUNTIFS('JKT CAPUCHE'!J46,"<>",'JKT CAPUCHE'!J46,"<>Pas de flocage")*'JKT CAPUCHE'!G42+COUNTIFS('JKT CAPUCHE'!J59,"<>",'JKT CAPUCHE'!J59,"<>Pas de flocage")*'JKT CAPUCHE'!G55+COUNTIFS('JKT CAPUCHE'!J68,"<>",'JKT CAPUCHE'!J68,"<>Pas de flocage")*'JKT CAPUCHE'!G64=0,"",COUNTIFS('JKT CAPUCHE'!J15,"<>",'JKT CAPUCHE'!J15,"<>Pas de flocage")*'JKT CAPUCHE'!G11+COUNTIFS('JKT CAPUCHE'!J24,"<>",'JKT CAPUCHE'!J24,"<>Pas de flocage")*'JKT CAPUCHE'!G20+COUNTIFS('JKT CAPUCHE'!J37,"<>",'JKT CAPUCHE'!J37,"<>Pas de flocage")*'JKT CAPUCHE'!G33+COUNTIFS('JKT CAPUCHE'!J46,"<>",'JKT CAPUCHE'!J46,"<>Pas de flocage")*'JKT CAPUCHE'!G42+COUNTIFS('JKT CAPUCHE'!J59,"<>",'JKT CAPUCHE'!J59,"<>Pas de flocage")*'JKT CAPUCHE'!G55+COUNTIFS('JKT CAPUCHE'!J68,"<>",'JKT CAPUCHE'!J68,"<>Pas de flocage")*'JKT CAPUCHE'!G64) | G35: =param!B23 -> 60 | H35: =IFERROR(IFERROR(E35*G35+F35*param!B31,E35*G35),"")
B36: Training | E36: =IF(SUM(TRAINING!G10,TRAINING!G12,TRAINING!G16,TRAINING!G18,TRAINING!G22,TRAINING!G24)=0,"",SUM(TRAINING!G10,TRAINING!G12,TRAINING!G16,TRAINING!G18,TRAINING!G22,TRAINING!G24)) | G36: =param!B24 -> 45 | H36: =IFERROR(E36*G36,"")
B38: Bagagerie
B39: Sac à dos | E39: =IF(BAGAGERIE!D12=0,"",BAGAGERIE!D12) | G39: =param!B27 -> 45 | H39: =IFERROR(E39*G39,"")
B40: Sac de sport | E40: =IF(SUM(BAGAGERIE!G21,BAGAGERIE!G23)=0,"",SUM(BAGAGERIE!G21,BAGAGERIE!G23)) | G40: =param!B28 -> 45 | H40: =IFERROR(E40*G40,"")
B41: Chaussettes | E41: =IF(SUM(BAGAGERIE!J32,BAGAGERIE!J34,BAGAGERIE!J36)=0,"",SUM(BAGAGERIE!J32,BAGAGERIE!J34,BAGAGERIE!J36)) | G41: =param!B29 -> 15 | H41: =IFERROR(E41*G41,"")
B43: Pack
B44: Complet | E44: =IF(COUNTA('PACK COMPLET'!D17,'PACK COMPLET'!D32,'PACK COMPLET'!D49,'PACK COMPLET'!D64,'PACK COMPLET'!D82,'PACK COMPLET'!D97)=0,"",COUNTA('PACK COMPLET'!D17,'PACK COMPLET'!D32,'PACK COMPLET'!D49,'PACK COMPLET'!D64,'PACK COMPLET'!D82,'PACK COMPLET'!D97)) | F44: =IF(COUNTIFS('PACK COMPLET'!J15,"<>",'PACK COMPLET'!J15,"<>Pas de flocage")+COUNTIFS('PACK COMPLET'!J30,"<>",'PACK COMPLET'!J30,"<>Pas de flocage")+COUNTIFS('PACK COMPLET'!J47,"<>",'PACK COMPLET'!J47,"<>Pas de flocage")+COUNTIFS('PACK COMPLET'!J62,"<>",'PACK COMPLET'!J62,"<>Pas de flocage")+COUNTIFS('PACK COMPLET'!J80,"<>",'PACK COMPLET'!J80,"<>Pas de flocage")+COUNTIFS('PACK COMPLET'!J95,"<>",'PACK COMPLET'!J95,"<>Pas de flocage")=0,"",COUNTIFS('PACK COMPLET'!J15,"<>",'PACK COMPLET'!J15,"<>Pas de flocage")+COUNTIFS('PACK COMPLET'!J30,"<>",'PACK COMPLET'!J30,"<>Pas de flocage")+COUNTIFS('PACK COMPLET'!J47,"<>",'PACK COMPLET'!J47,"<>Pas de flocage")+COUNTIFS('PACK COMPLET'!J62,"<>",'PACK COMPLET'!J62,"<>Pas de flocage")+COUNTIFS('PACK COMPLET'!J80,"<>",'PACK COMPLET'!J80,"<>Pas de flocage")+COUNTIFS('PACK COMPLET'!J95,"<>",'PACK COMPLET'!J95,"<>Pas de flocage")) | G44: =param!B34 -> 100 | H44: =IFERROR(IFERROR(E44*G44+F44*param!B31,E44*G44),"")
B45: Light | E45: =IF(COUNTA('PACK LIGHT'!D17,'PACK LIGHT'!D30,'PACK LIGHT'!D46,'PACK LIGHT'!D59,'PACK LIGHT'!D75,'PACK LIGHT'!D88)=0,"",COUNTA('PACK LIGHT'!D17,'PACK LIGHT'!D30,'PACK LIGHT'!D46,'PACK LIGHT'!D59,'PACK LIGHT'!D75,'PACK LIGHT'!D88)) | F45: =IF(COUNTIFS('PACK LIGHT'!J15,"<>",'PACK LIGHT'!J15,"<>Pas de flocage")+COUNTIFS('PACK LIGHT'!J28,"<>",'PACK LIGHT'!J28,"<>Pas de flocage")+COUNTIFS('PACK LIGHT'!J44,"<>",'PACK LIGHT'!J44,"<>Pas de flocage")+COUNTIFS('PACK LIGHT'!J57,"<>",'PACK LIGHT'!J57,"<>Pas de flocage")+COUNTIFS('PACK LIGHT'!J73,"<>",'PACK LIGHT'!J73,"<>Pas de flocage")+COUNTIFS('PACK LIGHT'!J86,"<>",'PACK LIGHT'!J86,"<>Pas de flocage")=0,"",COUNTIFS('PACK LIGHT'!J15,"<>",'PACK LIGHT'!J15,"<>Pas de flocage")+COUNTIFS('PACK LIGHT'!J28,"<>",'PACK LIGHT'!J28,"<>Pas de flocage")+COUNTIFS('PACK LIGHT'!J44,"<>",'PACK LIGHT'!J44,"<>Pas de flocage")+COUNTIFS('PACK LIGHT'!J57,"<>",'PACK LIGHT'!J57,"<>Pas de flocage")+COUNTIFS('PACK LIGHT'!J73,"<>",'PACK LIGHT'!J73,"<>Pas de flocage")+COUNTIFS('PACK LIGHT'!J86,"<>",'PACK LIGHT'!J86,"<>Pas de flocage")) | G45: =param!B35 -> 70 | H45: =IFERROR(IFERROR(E45*G45+F45*param!B31,E45*G45),"")
G47: Total | H47: =SUM(H26:H46) -> 0

Sheet PACK COMPLET
A2: Boutique RG Vaud La Côte
A3: PACK COMPLET
A5: T-shirt + Short + Chaussettes + Sac | I5: =param!B34 -> 100
A8: Pack Homme
A11: 1) | B11: T-Shirt | C11: Type : | F11: Taille : | I11: Flocage offert
I12: Emplacement : | L12: =IFERROR(_xlfn.XLOOKUP(J12,param!$I$13:$I$16,param!$J$13:$J$16),"Séléctionnez un emplacement") -> Séléctionnez un emplacement
I14: Flocage supplémentaire : | J14: =param!$B$31 -> 5
I15: Emplacement : | L15: =IFERROR(_xlfn.XLOOKUP(J15,param!$I$13:$I$16,param!$J$13:$J$16),"Séléctionnez un emplacement") -> Séléctionnez un emplacement
B17: Short | C17: Taille :
B19: Chaussettes | C19: Couleur : | F19: Taille :
B21: Sac | C21: Type : | F21: =IFERROR(_xlfn.XLOOKUP($D21,param!$I$27:$I$29,param!$J$27:$J$29),"")
A26: 2) | B26: T-Shirt | C26: Type : | F26: Taille : | I26: Flocage offert
I27: Emplacement : | L27: =IFERROR(_xlfn.XLOOKUP(J27,param!$I$13:$I$16,param!$J$13:$J$16),"Séléctionnez un emplacement") -> Séléctionnez un emplacement
I29: Flocage supplémentaire : | J29: =param!$B$31 -> 5
I30: Emplacement : | L30: =IFERROR(_xlfn.XLOOKUP(J30,param!$I$13:$I$16,param!$J$13:$J$16),"Séléctionnez un emplacement") -> Séléctionnez un emplacement
B32: Short | C32: Taille :
B34: Chaussettes | C34: Couleur : | F34: Taille :
B36: Sac | C36: Type : | F36: =IFERROR(_xlfn.XLOOKUP($D36,param!$I$27:$I$29,param!$J$27:$J$29),"")
A40: Femme
A43: 1) | B43: T-Shirt | C43: Type : | F43: Taille : | I43: Flocage offert
I44: Emplacement : | L44: =IFERROR(_xlfn.XLOOKUP(J44,param!$I$13:$I$16,param!$J$13:$J$16),"Séléctionnez un emplacement") -> Séléctionnez un emplacement
I46: Flocage supplémentaire : | J46: =param!$B$31 -> 5
I47: Emplacement : | L47: =IFERROR(_xlfn.XLOOKUP(J47,param!$I$13:$I$16,param!$J$13:$J$16),"Séléctionnez un emplacement") -> Séléctionnez un emplacement
B49: Short | C49: Taille :
B51: Chaussettes | C51: Couleur : | F51: Taille :
B53: Sac | C53: Type : | F53: =IFERROR(_xlfn.XLOOKUP($D53,param!$I$27:$I$29,param!$J$27:$J$29),"")
A58: 2) | B58: T-Shirt | C58: Type : | F58: Taille : | I58: Flocage offert
I59: Emplacement : | L59: =IFERROR(_xlfn.XLOOKUP(J59,param!$I$13:$I$16,param!$J$13:$J$16),"Séléctionnez un emplacement") -> Séléctionnez un emplacement
I61: Flocage supplémentaire : | J61: =param!$B$31 -> 5
I62: Emplacement : | L62: =IFERROR(_xlfn.XLOOKUP(J62,param!$I$13:$I$16,param!$J$13:$J$16),"Séléctionnez un emplacement") -> Séléctionnez un emplacement
B64: Short | C64: Taille :
B66: Chaussettes | C66: Couleur : | F66: Taille :
B68: Sac | C68: Type : | F68: =IFERROR(_xlfn.XLOOKUP($D68,param!$I$27:$I$29,param!$J$27:$J$29),"")
A73: Enfant
A76: 1) | B76: T-Shirt | C76: Type : | F76: Taille : | I76: Flocage offert
I77: Emplacement : | L77: =IFERROR(_xlfn.XLOOKUP(J77,param!$I$13:$I$16,param!$J$13:$J$16),"Séléctionnez un emplacement") -> Séléctionnez un emplacement
I79: Flocage supplémentaire : | J79: =param!$B$31 -> 5
I80: Emplacement : | L80: =IFERROR(_xlfn.XLOOKUP(J80,param!$I$13:$I$16,param!$J$13:$J$16),"Séléctionnez un emplacement") -> Séléctionnez un emplacement
B82: Short | C82: Taille :
B84: Chaussettes | C84: Couleur : | F84: Taille :
...

Sheet PACK LIGHT
A2: Boutique RG Vaud La Côte
A3: PACK LIGHT
A5: T-shirt + Short + Chaussettes | I5: =param!B35 -> 70
A8: Pack Homme
A11: 1) | B11: T-Shirt | C11: Type : | F11: Taille : | I11: Flocage offert
I12: Emplacement : | L12: =IFERROR(_xlfn.XLOOKUP(J12,param!$I$13:$I$16,param!$J$13:$J$16),"Séléctionnez un emplacement") -> Séléctionnez un emplacement
I14: Flocage supplémentaire : | J14: =param!$B$31 -> 5
I15: Emplacement : | L15: =IFERROR(_xlfn.XLOOKUP(J15,param!$I$13:$I$16,param!$J$13:$J$16),"Séléctionnez un emplacement") -> Séléctionnez un emplacement
B17: Short | C17: Taille :
B19: Chaussettes | C19: Couleur : | F19: Taille :
A24: 2) | B24: T-Shirt | C24: Type : | F24: Taille : | I24: Flocage offert
I25: Emplacement : | L25: =IFERROR(_xlfn.XLOOKUP(J25,param!$I$13:$I$16,param!$J$13:$J$16),"Séléctionnez un emplacement") -> Séléctionnez un emplacement
I27: Flocage supplémentaire : | J27: =param!$B$31 -> 5
I28: Emplacement : | L28: =IFERROR(_xlfn.XLOOKUP(J28,param!$I$13:$I$16,param!$J$13:$J$16),"Séléctionnez un emplacement") -> Séléctionnez un emplacement
B30: Short | C30: Taille :
B32: Chaussettes | C32: Couleur : | F32: Taille :
A37: Femme
A40: 1) | B40: T-Shirt | C40: Type : | F40: Taille : | I40: Flocage offert
I41: Emplacement : | L41: =IFERROR(_xlfn.XLOOKUP(J41,param!$I$13:$I$16,param!$J$13:$J$16),"Séléctionnez un emplacement") -> Séléctionnez un emplacement
I43: Flocage supplémentaire : | J43: =param!$B$31 -> 5
I44: Emplacement : | L44: =IFERROR(_xlfn.XLOOKUP(J44,param!$I$13:$I$16,param!$J$13:$J$16),"Séléctionnez un emplacement") -> Séléctionnez un emplacement
B46: Short | C46: Taille :
B48: Chaussettes | C48: Couleur : | F48: Taille :
A53: 2) | B53: T-Shirt | C53: Type : | F53: Taille : | I53: Flocage offert
I54: Emplacement : | L54: =IFERROR(_xlfn.XLOOKUP(J54,param!$I$13:$I$16,param!$J$13:$J$16),"Séléctionnez un emplacement") -> Séléctionnez un emplacement
I56: Flocage supplémentaire : | J56: =param!$B$31 -> 5
I57: Emplacement : | L57: =IFERROR(_xlfn.XLOOKUP(J57,param!$I$13:$I$16,param!$J$13:$J$16),"Séléctionnez un emplacement") -> Séléctionnez un emplacement
B59: Short | C59: Taille :
B61: Chaussettes | C61: Couleur : | F61: Taille :
A66: Enfant
A69: 1) | B69: T-Shirt | C69: Type : | F69: Taille : | I69: Flocage offert
I70: Emplacement : | L70: =IFERROR(_xlfn.XLOOKUP(J70,param!$I$13:$I$16,param!$J$13:$J$16),"Séléctionnez un emplacement") -> Séléctionnez un emplacement
I72: Flocage supplémentaire : | J72: =param!$B$31 -> 5
I73: Emplacement : | L73: =IFERROR(_xlfn.XLOOKUP(J73,param!$I$13:$I$16,param!$J$13:$J$16),"Séléctionnez un emplacement") -> Séléctionnez un emplacement
B75: Short | C75: Taille :
B77: Chaussettes | C77: Couleur : | F77: Taille :
A82: 2) | B82: T-Shirt | C82: Type : | F82: Taille : | I82: Flocage offert
I83: Emplacement : | L83: =IFERROR(_xlfn.XLOOKUP(J83,param!$I$13:$I$16,param!$J$13:$J$16),"Séléctionnez un emplacement") -> Séléctionnez un emplacement
I85: Flocage supplémentaire : | J85: =param!$B$31 -> 5
I86: Emplacement : | L86: =IFERROR(_xlfn.XLOOKUP(J86,param!$I$13:$I$16,param!$J$13:$J$16),"Séléctionnez un emplacement") -> Séléctionnez un emplacement
...

Sheet TSHIRT ENTR. MANCHE COURTE
A2: Boutique RG Vaud La Côte
A3: COLLECTION ENTRAINEMENT
A5: T-shirt manche courte (synthétique) : | I5: =param!B14 -> 35
A8: Homme
B11: 1) | C11: Taille : | F11: Quantité : | I11: Flocage offert
I12: Emplacement : | L12: =IFERROR(_xlfn.XLOOKUP(J12,param!$I$13:$I$16,param!$J$13:$J$16),"Séléctionnez un emplacement") -> Séléctionnez un emplacement
I14: Flocage supplémentaire : | J14: =param!$B$31 -> 5
I15: Emplacement : | L15: =IFERROR(_xlfn.XLOOKUP(J15,param!$I$13:$I$16,param!$J$13:$J$16),"Séléctionnez un emplacement") -> Séléctionnez un emplacement
B20: 2) | C20: Taille : | F20: Quantité : | I20: Flocage offert
I21: Emplacement : | L21: =IFERROR(_xlfn.XLOOKUP(J21,param!$I$13:$I$16,param!$J$13:$J$16),"Séléctionnez un emplacement") -> Séléctionnez un emplacement
I23: Flocage supplémentaire : | J23: =param!$B$31 -> 5
I24: Emplacement : | L24: =IFERROR(_xlfn.XLOOKUP(J24,param!$I$13:$I$16,param!$J$13:$J$16),"Séléctionnez un emplacement") -> Séléctionnez un emplacement
A30: Femme
B33: 1) | C33: Taille : | F33: Quantité : | I33: Flocage offert
I34: Emplacement : | L34: =IFERROR(_xlfn.XLOOKUP(J34,param!$I$13:$I$16,param!$J$13:$J$16),"Séléctionnez un emplacement") -> Séléctionnez un emplacement
I36: Flocage supplémentaire : | J36: =param!$B$31 -> 5
I37: Emplacement : | L37: =IFERROR(_xlfn.XLOOKUP(J37,param!$I$13:$I$16,param!$J$13:$J$16),"Séléctionnez un emplacement") -> Séléctionnez un emplacement
B42: 2) | C42: Taille : | F42: Quantité : | I42: Flocage offert
I43: Emplacement : | L43: =IFERROR(_xlfn.XLOOKUP(J43,param!$I$13:$I$16,param!$J$13:$J$16),"Séléctionnez un emplacement") -> Séléctionnez un emplacement
I45: Flocage supplémentaire : | J45: =param!$B$31 -> 5
I46: Emplacement : | L46: =IFERROR(_xlfn.XLOOKUP(J46,param!$I$13:$I$16,param!$J$13:$J$16),"Séléctionnez un emplacement") -> Séléctionnez un emplacement
A52: Enfant
B55: 1) | C55: Taille : | F55: Quantité : | I55: Flocage offert
I56: Emplacement : | L56: =IFERROR(_xlfn.XLOOKUP(J56,param!$I$13:$I$16,param!$J$13:$J$16),"Séléctionnez un emplacement") -> Séléctionnez un emplacement
I58: Flocage supplémentaire : | J58: =param!$B$31 -> 5
I59: Emplacement : | L59: =IFERROR(_xlfn.XLOOKUP(J59,param!$I$13:$I$16,param!$J$13:$J$16),"Séléctionnez un emplacement") -> Séléctionnez un emplacement
B64: 2) | C64: Taille : | F64: Quantité : | I64: Flocage offert
I65: Emplacement : | L65: =IFERROR(_xlfn.XLOOKUP(J65,param!$I$13:$I$16,param!$J$13:$J$16),"Séléctionnez un emplacement") -> Séléctionnez un emplacement
I67: Flocage supplémentaire : | J67: =param!$B$31 -> 5
I68: Emplacement : | L68: =IFERROR(_xlfn.XLOOKUP(J68,param!$I$13:$I$16,param!$J$13:$J$16),"Séléctionnez un emplacement") -> Séléctionnez un emplacement

Sheet TSHIRT ENTR. MANCHE LONGUE
A2: Boutique RG Vaud La Côte
A3: COLLECTION ENTRAINEMENT
A5: T-shirt manche longue (synthétique) : | I5: =param!B14 -> 35
A8: Adulte - Unisexe
B11: 1) | C11: Taille : | F11: Quantité : | I11: Flocage offert
I12: Emplacement : | L12: =IFERROR(_xlfn.XLOOKUP(J12,param!$I$13:$I$16,param!$J$13:$J$16),"Séléctionnez un emplacement") -> Séléctionnez un emplacement
I14: Flocage supplémentaire : | J14: =param!$B$31 -> 5
I15: Emplacement : | L15: =IFERROR(_xlfn.XLOOKUP(J15,param!$I$13:$I$16,param!$J$13:$J$16),"Séléctionnez un emplacement") -> Séléctionnez un emplacement
B20: 2) | C20: Taille : | F20: Quantité : | I20: Flocage offert
I21: Emplacement : | L21: =IFERROR(_xlfn.XLOOKUP(J21,param!$I$13:$I$16,param!$J$13:$J$16),"Séléctionnez un emplacement") -> Séléctionnez un emplacement
I23: Flocage supplémentaire : | J23: =param!$B$31 -> 5
I24: Emplacement : | L24: =IFERROR(_xlfn.XLOOKUP(J24,param!$I$13:$I$16,param!$J$13:$J$16),"Séléctionnez un emplacement") -> Séléctionnez un emplacement
A30: Enfant
B33: 1) | C33: Taille : | F33: Quantité : | I33: Flocage offert
I34: Emplacement : | L34: =IFERROR(_xlfn.XLOOKUP(J34,param!$I$13:$I$16,param!$J$13:$J$16),"Séléctionnez un emplacement") -> Séléctionnez un emplacement
I36: Flocage supplémentaire : | J36: =param!$B$31 -> 5
I37: Emplacement : | L37: =IFERROR(_xlfn.XLOOKUP(J37,param!$I$13:$I$16,param!$J$13:$J$16),"Séléctionnez un emplacement") -> Séléctionnez un emplacement
B42: 2) | C42: Taille : | F42: Quantité : | I42: Flocage offert
I43: Emplacement : | L43: =IFERROR(_xlfn.XLOOKUP(J43,param!$I$13:$I$16,param!$J$13:$J$16),"Séléctionnez un emplacement") -> Séléctionnez un emplacement
I45: Flocage supplémentaire : | J45: =param!$B$31 -> 5
I46: Emplacement : | L46: =IFERROR(_xlfn.XLOOKUP(J46,param!$I$13:$I$16,param!$J$13:$J$16),"Séléctionnez un emplacement") -> Séléctionnez un emplacement

Sheet SHORT
A2: Boutique RG Vaud La Côte
A3: COLLECTION ENTRAINEMENT
A5: Short (synthétique) : | I5: =param!B16 -> 30
A8: Homme
B10: 1) | C10: Taille : | F10: Quantité :
B12: 2) | C12: Taille : | F12: Quantité :
A14: Femme
B16: 1) | C16: Taille : | F16: Quantité :
B18: 2) | C18: Taille : | F18: Quantité :
A20: Enfant
B22: 1) | C22: Taille : | F22: Quantité :
B24: 2) | C24: Taille : | F24: Quantité :

Sheet TSHIRT COTON
A2: Boutique RG Vaud La Côte
A3: COLLECTION LOISIR COTON
A5: T-Shirt manche courte (coton) : | I5: =param!B19 -> 30
A8: Homme
B11: 1) | C11: Taille : | F11: Quantité : | I11: Flocage offert
I12: Emplacement : | L12: =IFERROR(_xlfn.XLOOKUP(J12,param!$I$13:$I$16,param!$J$13:$J$16),"Séléctionnez un emplacement") -> Séléctionnez un emplacement
I14: Flocage supplémentaire : | J14: =param!$B$31 -> 5
I15: Emplacement : | L15: =IFERROR(_xlfn.XLOOKUP(J15,param!$I$13:$I$16,param!$J$13:$J$16),"Séléctionnez un emplacement") -> Séléctionnez un emplacement
B20: 2) | C20: Taille : | F20: Quantité : | I20: Flocage offert
I21: Emplacement : | L21: =IFERROR(_xlfn.XLOOKUP(J21,param!$I$13:$I$16,param!$J$13:$J$16),"Séléctionnez un emplacement") -> Séléctionnez un emplacement
I23: Flocage supplémentaire : | J23: =param!$B$31 -> 5
I24: Emplacement : | L24: =IFERROR(_xlfn.XLOOKUP(J24,param!$I$13:$I$16,param!$J$13:$J$16),"Séléctionnez un emplacement") -> Séléctionnez un emplacement
A30: Femme
B33: 1) | C33: Taille : | F33: Quantité : | I33: Flocage offert
I34: Emplacement : | L34: =IFERROR(_xlfn.XLOOKUP(J34,param!$I$13:$I$16,param!$J$13:$J$16),"Séléctionnez un emplacement") -> Séléctionnez un emplacement
I36: Flocage supplémentaire : | J36: =param!$B$31 -> 5
I37: Emplacement : | L37: =IFERROR(_xlfn.XLOOKUP(J37,param!$I$13:$I$16,param!$J$13:$J$16),"Séléctionnez un emplacement") -> Séléctionnez un emplacement
B42: 2) | C42: Taille : | F42: Quantité : | I42: Flocage offert
I43: Emplacement : | L43: =IFERROR(_xlfn.XLOOKUP(J43,param!$I$13:$I$16,param!$J$13:$J$16),"Séléctionnez un emplacement") -> Séléctionnez un emplacement
I45: Flocage supplémentaire : | J45: =param!$B$31 -> 5
I46: Emplacement : | L46: =IFERROR(_xlfn.XLOOKUP(J46,param!$I$13:$I$16,param!$J$13:$J$16),"Séléctionnez un emplacement") -> Séléctionnez un emplacement
A52: Enfant
B55: 1) | C55: Taille : | F55: Quantité : | I55: Flocage offert
I56: Emplacement : | L56: =IFERROR(_xlfn.XLOOKUP(J56,param!$I$13:$I$16,param!$J$13:$J$16),"Séléctionnez un emplacement") -> Séléctionnez un emplacement
I58: Flocage supplémentaire : | J58: =param!$B$31 -> 5
I59: Emplacement : | L59: =IFERROR(_xlfn.XLOOKUP(J59,param!$I$13:$I$16,param!$J$13:$J$16),"Séléctionnez un emplacement") -> Séléctionnez un emplacement
B64: 2) | C64: Taille : | F64: Quantité : | I64: Flocage offert
I65: Emplacement : | L65: =IFERROR(_xlfn.XLOOKUP(J65,param!$I$13:$I$16,param!$J$13:$J$16),"Séléctionnez un emplacement") -> Séléctionnez un emplacement
I67: Flocage supplémentaire : | J67: =param!$B$31 -> 5
I68: Emplacement : | L68: =IFERROR(_xlfn.XLOOKUP(J68,param!$I$13:$I$16,param!$J$13:$J$16),"Séléctionnez un emplacement") -> Séléctionnez un emplacement

Sheet HOODIE
A2: Boutique RG Vaud La Côte
A3: COLLECTION LOISIR COTON
A5: Hoodie (coton) : | I5: =param!B20 -> 60
A8: Homme
B11: 1) | C11: Taille : | F11: Quantité : | I11: Flocage offert
I12: Emplacement : | L12: =IFERROR(_xlfn.XLOOKUP(J12,param!$I$13:$I$16,param!$J$13:$J$16),"Séléctionnez un emplacement") -> Séléctionnez un emplacement
I14: Flocage supplémentaire : | J14: =param!$B$31 -> 5
I15: Emplacement : | L15: =IFERROR(_xlfn.XLOOKUP(J15,param!$I$13:$I$16,param!$J$13:$J$16),"Séléctionnez un emplacement") -> Séléctionnez un emplacement
B20: 2) | C20: Taille : | F20: Quantité : | I20: Flocage offert
I21: Emplacement : | L21: =IFERROR(_xlfn.XLOOKUP(J21,param!$I$13:$I$16,param!$J$13:$J$16),"Séléctionnez un emplacement") -> Séléctionnez un emplacement
I23: Flocage supplémentaire : | J23: =param!$B$31 -> 5
I24: Emplacement : | L24: =IFERROR(_xlfn.XLOOKUP(J24,param!$I$13:$I$16,param!$J$13:$J$16),"Séléctionnez un emplacement") -> Séléctionnez un emplacement
A30: Femme
B33: 1) | C33: Taille : | F33: Quantité : | I33: Flocage offert
I34: Emplacement : | L34: =IFERROR(_xlfn.XLOOKUP(J34,param!$I$13:$I$16,param!$J$13:$J$16),"Séléctionnez un emplacement") -> Séléctionnez un emplacement
I36: Flocage supplémentaire : | J36: =param!$B$31 -> 5
I37: Emplacement : | L37: =IFERROR(_xlfn.XLOOKUP(J37,param!$I$13:$I$16,param!$J$13:$J$16),"Séléctionnez un emplacement") -> Séléctionnez un emplacement
B42: 2) | C42: Taille : | F42: Quantité : | I42: Flocage offert
I43: Emplacement : | L43: =IFERROR(_xlfn.XLOOKUP(J43,param!$I$13:$I$16,param!$J$13:$J$16),"Séléctionnez un emplacement") -> Séléctionnez un emplacement
I45: Flocage supplémentaire : | J45: =param!$B$31 -> 5
I46: Emplacement : | L46: =IFERROR(_xlfn.XLOOKUP(J46,param!$I$13:$I$16,param!$J$13:$J$16),"Séléctionnez un emplacement") -> Séléctionnez un emplacement
A52: Enfant
B55: 1) | C55: Taille : | F55: Quantité : | I55: Flocage offert
I56: Emplacement : | L56: =IFERROR(_xlfn.XLOOKUP(J56,param!$I$13:$I$16,param!$J$13:$J$16),"Séléctionnez un emplacement") -> Séléctionnez un emplacement
I58: Flocage supplémentaire : | J58: =param!$B$31 -> 5
I59: Emplacement : | L59: =IFERROR(_xlfn.XLOOKUP(J59,param!$I$13:$I$16,param!$J$13:$J$16),"Séléctionnez un emplacement") -> Séléctionnez un emplacement
B64: 2) | C64: Taille : | F64: Quantité : | I64: Flocage offert
I65: Emplacement : | L65: =IFERROR(_xlfn.XLOOKUP(J65,param!$I$13:$I$16,param!$J$13:$J$16),"Séléctionnez un emplacement") -> Séléctionnez un emplacement
I67: Flocage supplémentaire : | J67: =param!$B$31 -> 5
I68: Emplacement : | L68: =IFERROR(_xlfn.XLOOKUP(J68,param!$I$13:$I$16,param!$J$13:$J$16),"Séléctionnez un emplacement") -> Séléctionnez un emplacement

Sheet JKT CAPUCHE
A2: Boutique RG Vaud La Côte
A3: COLLECTION TRAINING POLYESTER
A5: JKT Capuche (polyester) : | I5: =param!B23 -> 60
A8: Homme
B11: 1) | C11: Taille : | F11: Quantité : | I11: Flocage offert | Q11: =IF(COUNTIFS('JKT CAPUCHE'!J15,"<>",'JKT CAPUCHE'!J15,"<>Pas de flocage")*'JKT CAPUCHE'!G11+COUNTIFS('JKT CAPUCHE'!J24,"<>",'JKT CAPUCHE'!J24,"<>Pas de flocage")*'JKT CAPUCHE'!G20+COUNTIFS('JKT CAPUCHE'!J37,"<>",'JKT CAPUCHE'!J37,"<>Pas de flocage")*'JKT CAPUCHE'!G33+COUNTIFS('JKT CAPUCHE'!J46,"<>",'JKT CAPUCHE'!J46,"<>Pas de flocage")*'JKT CAPUCHE'!G42+COUNTIFS('JKT CAPUCHE'!J59,"<>",'JKT CAPUCHE'!J59,"<>Pas de flocage")*'JKT CAPUCHE'!G55+COUNTIFS('JKT CAPUCHE'!J68,"<>",'JKT CAPUCHE'!J68,"<>Pas de flocage")*'JKT CAPUCHE'!G64=0,"",COUNTIFS('JKT CAPUCHE'!J15,"<>",'JKT CAPUCHE'!J15,"<>Pas de flocage")*'JKT CAPUCHE'!G11+COUNTIFS('JKT CAPUCHE'!J24,"<>",'JKT CAPUCHE'!J24,"<>Pas de flocage")*'JKT CAPUCHE'!G20+COUNTIFS('JKT CAPUCHE'!J37,"<>",'JKT CAPUCHE'!J37,"<>Pas de flocage")*'JKT CAPUCHE'!G33+COUNTIFS('JKT CAPUCHE'!J46,"<>",'JKT CAPUCHE'!J46,"<>Pas de flocage")*'JKT CAPUCHE'!G42+COUNTIFS('JKT CAPUCHE'!J59,"<>",'JKT CAPUCHE'!J59,"<>Pas de flocage")*'JKT CAPUCHE'!G55+COUNTIFS('JKT CAPUCHE'!J68,"<>",'JKT CAPUCHE'!J68,"<>Pas de flocage")*'JKT CAPUCHE'!G64)
I12: Emplacement : | L12: =IFERROR(_xlfn.XLOOKUP(J12,param!$I$13:$I$16,param!$J$13:$J$16),"Séléctionnez un emplacement") -> Séléctionnez un emplacement
I14: Flocage supplémentaire : | J14: =param!$B$31 -> 5
I15: Emplacement : | L15: =IFERROR(_xlfn.XLOOKUP(J15,param!$I$13:$I$16,param!$J$13:$J$16),"Séléctionnez un emplacement") -> Séléctionnez un emplacement
B20: 2) | C20: Taille : | F20: Quantité : | I20: Flocage offert
I21: Emplacement : | L21: =IFERROR(_xlfn.XLOOKUP(J21,param!$I$13:$I$16,param!$J$13:$J$16),"Séléctionnez un emplacement") -> Séléctionnez un emplacement
I23: Flocage supplémentaire : | J23: =param!$B$31 -> 5
I24: Emplacement : | L24: =IFERROR(_xlfn.XLOOKUP(J24,param!$I$13:$I$16,param!$J$13:$J$16),"Séléctionnez un emplacement") -> Séléctionnez un emplacement
A30: Femme
B33: 1) | C33: Taille : | F33: Quantité : | I33: Flocage offert
I34: Emplacement : | L34: =IFERROR(_xlfn.XLOOKUP(J34,param!$I$13:$I$16,param!$J$13:$J$16),"Séléctionnez un emplacement") -> Séléctionnez un emplacement
I36: Flocage supplémentaire : | J36: =param!$B$31 -> 5
I37: Emplacement : | L37: =IFERROR(_xlfn.XLOOKUP(J37,param!$I$13:$I$16,param!$J$13:$J$16),"Séléctionnez un emplacement") -> Séléctionnez un emplacement
B42: 2) | C42: Taille : | F42: Quantité : | I42: Flocage offert
I43: Emplacement : | L43: =IFERROR(_xlfn.XLOOKUP(J43,param!$I$13:$I$16,param!$J$13:$J$16),"Séléctionnez un emplacement") -> Séléctionnez un emplacement
I45: Flocage supplémentaire : | J45: =param!$B$31 -> 5
I46: Emplacement : | L46: =IFERROR(_xlfn.XLOOKUP(J46,param!$I$13:$I$16,param!$J$13:$J$16),"Séléctionnez un emplacement") -> Séléctionnez un emplacement
A52: Enfant
B55: 1) | C55: Taille : | F55: Quantité : | I55: Flocage offert
I56: Emplacement : | L56: =IFERROR(_xlfn.XLOOKUP(J56,param!$I$13:$I$16,param!$J$13:$J$16),"Séléctionnez un emplacement") -> Séléctionnez un emplacement
I58: Flocage supplémentaire : | J58: =param!$B$31 -> 5
I59: Emplacement : | L59: =IFERROR(_xlfn.XLOOKUP(J59,param!$I$13:$I$16,param!$J$13:$J$16),"Séléctionnez un emplacement") -> Séléctionnez un emplacement
B64: 2) | C64: Taille : | F64: Quantité : | I64: Flocage offert
I65: Emplacement : | L65: =IFERROR(_xlfn.XLOOKUP(J65,param!$I$13:$I$16,param!$J$13:$J$16),"Séléctionnez un emplacement") -> Séléctionnez un emplacement
I67: Flocage supplémentaire : | J67: =param!$B$31 -> 5
I68: Emplacement : | L68: =IFERROR(_xlfn.XLOOKUP(J68,param!$I$13:$I$16,param!$J$13:$J$16),"Séléctionnez un emplacement") -> Séléctionnez un emplacement

Sheet TRAINING
A2: Boutique RG Vaud La Côte
A3: COLLECTION TRAINING POLYESTER
A5: Training (polyester) : | I5: =param!B24 -> 45
A8: Homme
B10: 1) | C10: Taille : | F10: Quantité :
B12: 2) | C12: Taille : | F12: Quantité :
A14: Femme
B16: 1) | C16: Taille : | F16: Quantité :
B18: 2) | C18: Taille : | F18: Quantité :
A20: Enfant
B22: 1) | C22: Taille : | F22: Quantité :
B24: 2) | C24: Taille : | F24: Quantité :

Sheet BAGAGERIE
A2: Boutique RG Vaud La Côte
A3: BAGAGERIE
A8: Sac à dos : | H8: =param!B27 -> 45
C12: Quantité :
A17: Sac de sport : | H17: =param!B28 -> 45
B21: 1) | C21: Taille : | F21: Quantité :
B23: 2) | C23: Taille : | F23: Quantité :
A28: Chaussettes : | H28: =param!B29 -> 15
B32: 1) | C32: Couleur : | F32: Taille : | I32: Quantité :
B34: 2) | C34: Couleur : | F34: Taille : | I34: Quantité :
B36: 3) | C36: Couleur : | F36: Taille : | I36: Quantité :

Sheet param
A2: TSHIRT | D2: SHORT | G2: TSHIRT MANCHE LONGUE | I2: Bagagerie
A3: Femme | B3: Homme | C3: Junior | D3: Femme | E3: Homme | F3: Junior | G3: Mixte | H3: Junior | I3: SAC A DOS | J3: SAC DE SPORT | K3: SOCKS | L3: SOCKS
A4: XS | B4: S | C4: 128 | D4: XS | E4: S | F4: 128 | G4: S | H4: 128 | J4: S | K4: 27-30 | L4: Blanc
A5: S | B5: M | C5: 140 | D5: S | E5: M | F5: 140 | G5: M | H5: 140 | J5: M | K5: 31-34 | L5: Noir
A6: M | B6: L | C6: 152 | D6: M | E6: L | F6: 152 | G6: L | H6: 152 | K6: 35-38
A7: L | B7: XL | C7: 164 | D7: L | E7: XL | F7: 164 | G7: XL | H7: 164 | K7: 39-42
A8: XL | D8: XL | K8: 43-46
A12: PRIX | I12: Emplacement | J12: Libellé
A13: Collection Entraînement | I13: Cœur | J13: Max. 10 caractères :
A14: T-Shirt manche courte | B14: 35 | I14: Manche | J14: Max. 10 caractères :
A15: T-Shirt manche longue | B15: 35 | I15: Dos | J15: Numéro ou max. 10 caractères :
A16: Short | B16: 30 | I16: Pas de flocage | J16: =""
A18: Collection Loisir
A19: T-Shirt manche courte | B19: 30
A20: Hoodie | B20: 60
A22: Collection Training | I22: T-Shirt
A23: JKT Capuche | B23: 60 | I23: Manche courte
A24: Training | B24: 45 | I24: Manche longue
A26: Bagagerie | I26: Sac
A27: Sac à dos | B27: 45 | I27: Sac à dos | J27: =""
A28: Sac de sport | B28: 45 | I28: Sac de sport | J28: Taille :
A29: Chaussettes | B29: 15 | I29: Sac de sport | J29: Taille :
A31: Flocage | B31: 5
A33: Pack
A34: Complet | B34: 100
A35: Light | B35: 70
